BEGIN:VCALENDAR
VERSION:2.0
PRODID:spatie/icalendar-generator
DESCRIPTION:Events from Club Monta&amp;ntilde\;ero Sierra del Pinar
X-WR-CALDESC:Events from Club Monta&amp;ntilde\;ero Sierra del Pinar
REFRESH-INTERVAL;VALUE=DURATION:PT1440M
X-PUBLISHED-TTL:PT1440M
BEGIN:VTIMEZONE
TZID:Europe/Madrid
BEGIN:STANDARD
DTSTART:20231029T030000Z
TZOFFSETFROM:+0200
TZOFFSETTO:+0100
END:STANDARD
BEGIN:DAYLIGHT
DTSTART:20240331T020000Z
TZOFFSETFROM:+0100
TZOFFSETTO:+0200
END:DAYLIGHT
END:VTIMEZONE
BEGIN:VTIMEZONE
TZID:UTC
BEGIN:STANDARD
DTSTART:20250727T085019Z
TZOFFSETFROM:+0000
TZOFFSETTO:+0000
END:STANDARD
END:VTIMEZONE
BEGIN:VEVENT
UID:99-39
DTSTAMP:20260423T085019Z
SUMMARY:Travesía \"Villaluenga del Rosario-Grazalema\, por el Refugio del 
 Reloj\".
LOCATION:Club Montañero Sierra del Pinar Plaza Salvador Allende  Jerez de 
 la Frontera Cádiz 11403
ORGANIZER;CN=Club Montañero Sierra del Pinar:MAILTO:clubsierradelpinar@gma
 il.com
DTSTART;TZID=Europe/Madrid:20240407T080000
DTEND;TZID=Europe/Madrid:20240407T090000
X-ALT-DESC;FMTTYPE=TEXT/HTML:<p>Una de las rutas clásicas por la Sierra de
  Grazalema\, el grado de dificultad lo consideramos moderado por el desniv
 el a superar al principio de la actividad fundamentalmente.</p>\n
CATEGORIES:Senderismo
URL;VALUE=URI:https://clubsierradelpinar.es/index.php/mc-events/travesia-vi
 llaluenga-del-rosario-grazalema-por-el-refugio-del-reloj/
METHOD:PUBLISH
END:VEVENT
END:VCALENDAR