BEGIN:VCALENDAR
VERSION:2.0
PRODID:spatie/icalendar-generator
DESCRIPTION:Events from Club Monta&amp;ntilde\;ero Sierra del Pinar
X-WR-CALDESC:Events from Club Monta&amp;ntilde\;ero Sierra del Pinar
REFRESH-INTERVAL;VALUE=DURATION:PT1440M
X-PUBLISHED-TTL:PT1440M
BEGIN:VTIMEZONE
TZID:Europe/Madrid
BEGIN:STANDARD
DTSTART:20231029T030000Z
TZOFFSETFROM:+0200
TZOFFSETTO:+0100
END:STANDARD
BEGIN:DAYLIGHT
DTSTART:20240331T020000Z
TZOFFSETFROM:+0100
TZOFFSETTO:+0200
END:DAYLIGHT
END:VTIMEZONE
BEGIN:VTIMEZONE
TZID:UTC
BEGIN:STANDARD
DTSTART:20250726T091615Z
TZOFFSETFROM:+0000
TZOFFSETTO:+0000
END:STANDARD
END:VTIMEZONE
BEGIN:VEVENT
UID:93-36
DTSTAMP:20260422T091615Z
SUMMARY:XXXV Ciclo de Divulgación del Montañismo: \"Una vida al filo\"
LOCATION:Club Montañero Sierra del Pinar Plaza Salvador Allende  Jerez de 
 la Frontera Cádiz 11403
ORGANIZER;CN=Club Montañero Sierra del Pinar:MAILTO:clubsierradelpinar@gma
 il.com
DTSTART;TZID=Europe/Madrid:20240315T200000
DTEND;TZID=Europe/Madrid:20240315T220000
X-ALT-DESC;FMTTYPE=TEXT/HTML:<p>Dentro del XXXV Ciclo de Divulgación del M
 ontañismo\, el próximo viernes 15 de marzo\, en la sala Compañía (Plaz
 a de la Compañía)\, tendrá lugar la conferencia \"Una vida al filo\, 30
  años de \"Al filo de lo imposible\" a cargo del aventurero y escritor Se
 bastián Álvaro\, director durante 27 años del mítico programa de TVE.</p>\n
CATEGORIES:Divulgación
URL;VALUE=URI:https://clubsierradelpinar.es/index.php/mc-events/xxxv-ciclo-
 de-divulgacion-del-montanismo-una-vida-al-filo/
METHOD:PUBLISH
END:VEVENT
END:VCALENDAR