BEGIN:VCALENDAR
VERSION:2.0
PRODID:spatie/icalendar-generator
DESCRIPTION:Events from Club Monta&amp;ntilde\;ero Sierra del Pinar
X-WR-CALDESC:Events from Club Monta&amp;ntilde\;ero Sierra del Pinar
REFRESH-INTERVAL;VALUE=DURATION:PT1440M
X-PUBLISHED-TTL:PT1440M
BEGIN:VTIMEZONE
TZID:Europe/Madrid
BEGIN:STANDARD
DTSTART:20231029T030000Z
TZOFFSETFROM:+0200
TZOFFSETTO:+0100
END:STANDARD
BEGIN:DAYLIGHT
DTSTART:20240331T020000Z
TZOFFSETFROM:+0100
TZOFFSETTO:+0200
END:DAYLIGHT
END:VTIMEZONE
BEGIN:VTIMEZONE
TZID:UTC
BEGIN:STANDARD
DTSTART:20250726T091657Z
TZOFFSETFROM:+0000
TZOFFSETTO:+0000
END:STANDARD
END:VTIMEZONE
BEGIN:VEVENT
UID:84-27
DTSTAMP:20260422T091657Z
SUMMARY:Audiovisual \"Vía verde Roger Lapébie\" en BTT
LOCATION:Club Montañero Sierra del Pinar Plaza Salvador Allende  Jerez de 
 la Frontera Cádiz 11403
ORGANIZER;CN=Club Montañero Sierra del Pinar:MAILTO:clubsierradelpinar@gma
 il.com
DTSTART;TZID=Europe/Madrid:20240112T213000
DTEND;TZID=Europe/Madrid:20240112T223000
X-ALT-DESC;FMTTYPE=TEXT/HTML:<p>El Canal de los dos Mares\, canal des Deux 
 Mers en francés\, une el océano atlántico con el mar mediterráneo cruz
 ando el sur de Francia de oeste a este a lo largo de una sucesión de carr
 iles bicis\, con un perfil más bien llano\, lo que la hacen una de las ru
 tas más famosas de Europa.</p>\n
CATEGORIES:Divulgación
URL;VALUE=URI:https://clubsierradelpinar.es/index.php/mc-events/audiovisual
 -via-verde-roger-lapebie-en-btt/
METHOD:PUBLISH
END:VEVENT
END:VCALENDAR