BEGIN:VCALENDAR
VERSION:2.0
PRODID:spatie/icalendar-generator
DESCRIPTION:Events from Club Monta&amp;ntilde\;ero Sierra del Pinar
X-WR-CALDESC:Events from Club Monta&amp;ntilde\;ero Sierra del Pinar
REFRESH-INTERVAL;VALUE=DURATION:PT1440M
X-PUBLISHED-TTL:PT1440M
BEGIN:VTIMEZONE
TZID:Europe/Madrid
BEGIN:STANDARD
DTSTART:20221030T030000Z
TZOFFSETFROM:+0200
TZOFFSETTO:+0100
END:STANDARD
BEGIN:DAYLIGHT
DTSTART:20230326T020000Z
TZOFFSETFROM:+0100
TZOFFSETTO:+0200
END:DAYLIGHT
END:VTIMEZONE
BEGIN:VTIMEZONE
TZID:UTC
BEGIN:STANDARD
DTSTART:20250723T140805Z
TZOFFSETFROM:+0000
TZOFFSETTO:+0000
END:STANDARD
END:VTIMEZONE
BEGIN:VEVENT
UID:62-10
DTSTAMP:20260419T140805Z
SUMMARY:Trekking \"Landmannaulagar\" (Islandia)
LOCATION:Club Montañero Sierra del Pinar Plaza Salvador Allende  Jerez de 
 la Frontera Cádiz 11403
ORGANIZER;CN=Club Montañero Sierra del Pinar:MAILTO:clubsierradelpinar@gma
 il.com
DTSTART;TZID=Europe/Madrid:20230210T210000
DTEND;TZID=Europe/Madrid:20230210T220000
X-ALT-DESC;FMTTYPE=TEXT/HTML:<p>\"Ochenta kilómetros caminando por bellos 
 y mágicos paisajes\, atravesando campos de lava\, montañas de riolita\, 
 aguas termales\, fumarolas y desiertos de ceniza. Nos sorprenderemos con e
 l espectacular contraste entre el blanco níveo y el verde intenso que da 
 paso a enigmáticos conos volcánicos e impresionantes cascadas\".</p>\n
CATEGORIES:Divulgación
URL;VALUE=URI:https://clubsierradelpinar.es/index.php/mc-events/trekking-la
 ndmannaulagar-islandia/
METHOD:PUBLISH
END:VEVENT
END:VCALENDAR