BEGIN:VCALENDAR
VERSION:2.0
PRODID:spatie/icalendar-generator
DESCRIPTION:Events from Club Monta&amp;ntilde\;ero Sierra del Pinar
X-WR-CALDESC:Events from Club Monta&amp;ntilde\;ero Sierra del Pinar
REFRESH-INTERVAL;VALUE=DURATION:PT1440M
X-PUBLISHED-TTL:PT1440M
BEGIN:VTIMEZONE
TZID:Europe/Madrid
BEGIN:STANDARD
DTSTART:20221030T030000Z
TZOFFSETFROM:+0200
TZOFFSETTO:+0100
END:STANDARD
BEGIN:DAYLIGHT
DTSTART:20230326T020000Z
TZOFFSETFROM:+0100
TZOFFSETTO:+0200
END:DAYLIGHT
END:VTIMEZONE
BEGIN:VTIMEZONE
TZID:UTC
BEGIN:STANDARD
DTSTART:20250726T091618Z
TZOFFSETFROM:+0000
TZOFFSETTO:+0000
END:STANDARD
END:VTIMEZONE
BEGIN:VEVENT
UID:61-9
DTSTAMP:20260422T091618Z
SUMMARY:Ascensión al pico Huma (Ardales\, Málaga)
LOCATION:Club Montañero Sierra del Pinar Plaza Salvador Allende  Jerez de 
 la Frontera Cádiz 11403
ORGANIZER;CN=Club Montañero Sierra del Pinar:MAILTO:clubsierradelpinar@gma
 il.com
DTSTART;TZID=Europe/Madrid;VALUE=DATE:20230318
DTEND;TZID=Europe/Madrid;VALUE=DATE:20230320
X-ALT-DESC;FMTTYPE=TEXT/HTML:<p>El pico Huma (1191 m) forma parte del llama
 do arco calizo central\, un conglomerado de montañas de roca caliza desnu
 da que se alza en el norte de la provincia de Málaga. Este pico es llamad
 o también el Mirador de Andalucía por estar situado casi en el centro de
  la comunidad y por abarcar una gran parte del territorio en una visión d
 e 360º.</p>\n
CATEGORIES:Pernocta
URL;VALUE=URI:https://clubsierradelpinar.es/index.php/mc-events/ascension-a
 l-pico-huma-ardales-malaga/
METHOD:PUBLISH
END:VEVENT
END:VCALENDAR