BEGIN:VCALENDAR
VERSION:2.0
PRODID:spatie/icalendar-generator
DESCRIPTION:Events from Club Monta&amp;ntilde\;ero Sierra del Pinar
X-WR-CALDESC:Events from Club Monta&amp;ntilde\;ero Sierra del Pinar
REFRESH-INTERVAL;VALUE=DURATION:PT1440M
X-PUBLISHED-TTL:PT1440M
BEGIN:VTIMEZONE
TZID:Europe/Madrid
BEGIN:STANDARD
DTSTART:20221030T030000Z
TZOFFSETFROM:+0200
TZOFFSETTO:+0100
END:STANDARD
BEGIN:DAYLIGHT
DTSTART:20230326T020000Z
TZOFFSETFROM:+0100
TZOFFSETTO:+0200
END:DAYLIGHT
END:VTIMEZONE
BEGIN:VTIMEZONE
TZID:UTC
BEGIN:STANDARD
DTSTART:20250726T091651Z
TZOFFSETFROM:+0000
TZOFFSETTO:+0000
END:STANDARD
END:VTIMEZONE
BEGIN:VEVENT
UID:55-4
DTSTAMP:20260422T091651Z
SUMMARY:Canaima\, un paraíso escondido en Venezuela
LOCATION:Club Montañero Sierra del Pinar Plaza Salvador Allende  Jerez de 
 la Frontera Cádiz 11403
ORGANIZER;CN=Club Montañero Sierra del Pinar:MAILTO:clubsierradelpinar@gma
 il.com
DTSTART;TZID=Europe/Madrid:20230113T210000
DTEND;TZID=Europe/Madrid:20230113T220000
X-ALT-DESC;FMTTYPE=TEXT/HTML:<p>José A. Sánchez Lozano\, Yiyi\, nos mostr
 ará y comentará con este audiovisual los paisajes capturados con su cám
 ara en uno de sus más recientes viajes.</p>\n
CATEGORIES:Divulgación
URL;VALUE=URI:https://clubsierradelpinar.es/index.php/mc-events/canaima-un-
 paraiso-escondido-en-venezuela/
METHOD:PUBLISH
END:VEVENT
END:VCALENDAR