BEGIN:VCALENDAR
VERSION:2.0
PRODID:spatie/icalendar-generator
DESCRIPTION:Events from Club Monta&amp;ntilde\;ero Sierra del Pinar
X-WR-CALDESC:Events from Club Monta&amp;ntilde\;ero Sierra del Pinar
REFRESH-INTERVAL;VALUE=DURATION:PT1440M
X-PUBLISHED-TTL:PT1440M
BEGIN:VTIMEZONE
TZID:Europe/Madrid
BEGIN:STANDARD
DTSTART:20251026T030000Z
TZOFFSETFROM:+0200
TZOFFSETTO:+0100
END:STANDARD
BEGIN:DAYLIGHT
DTSTART:20260329T020000Z
TZOFFSETFROM:+0100
TZOFFSETTO:+0200
END:DAYLIGHT
BEGIN:STANDARD
DTSTART:20261025T030000Z
TZOFFSETFROM:+0200
TZOFFSETTO:+0100
END:STANDARD
END:VTIMEZONE
BEGIN:VTIMEZONE
TZID:UTC
BEGIN:STANDARD
DTSTART:20250726T124356Z
TZOFFSETFROM:+0000
TZOFFSETTO:+0000
END:STANDARD
END:VTIMEZONE
BEGIN:VEVENT
UID:185-98
DTSTAMP:20260422T124356Z
SUMMARY:En torno a Grazalema\, actividad prevista el día 26 de abril y apl
 azada al 3 de mayo
LOCATION:Club Montañero Sierra del Pinar Plaza Salvador Allende  Jerez de 
 la Frontera Cádiz 11403
ORGANIZER;CN=Club Montañero Sierra del Pinar:MAILTO:clubsierradelpinar@gma
 il.com
DTSTART;TZID=Europe/Madrid:20260503T000000
DTEND;TZID=Europe/Madrid:20260503T010000
X-ALT-DESC;FMTTYPE=TEXT/HTML:En torno a Grazalema!! Partiremos del pabelló
 n deportivo del pueblo para llegar a las canteras de \"los cotitos\"\, don
 de también veremos una antigua zona de cultivo ancestral en bancales. Por
  allí está la última calera que \"funcionó\" en el pueblo. Cerca de la
  antigua \"venta de la espuma\" tomaremos el sendero de \"Las Hermanillas\
 "\, que&amp;hellip\;
CATEGORIES:Senderismo
URL;VALUE=URI:https://clubsierradelpinar.es/index.php/mc-events/en-torno-a-
 grazalema-actividad-prevista-el-dia-26-de-abril-y-aplazada-al-3-de-mayo/
METHOD:PUBLISH
END:VEVENT
END:VCALENDAR