BEGIN:VCALENDAR
VERSION:2.0
PRODID:spatie/icalendar-generator
DESCRIPTION:Events from Club Monta&amp;ntilde\;ero Sierra del Pinar
X-WR-CALDESC:Events from Club Monta&amp;ntilde\;ero Sierra del Pinar
REFRESH-INTERVAL;VALUE=DURATION:PT1440M
X-PUBLISHED-TTL:PT1440M
BEGIN:VTIMEZONE
TZID:Europe/Madrid
BEGIN:STANDARD
DTSTART:20241027T030000Z
TZOFFSETFROM:+0200
TZOFFSETTO:+0100
END:STANDARD
BEGIN:DAYLIGHT
DTSTART:20250330T020000Z
TZOFFSETFROM:+0100
TZOFFSETTO:+0200
END:DAYLIGHT
BEGIN:STANDARD
DTSTART:20251026T030000Z
TZOFFSETFROM:+0200
TZOFFSETTO:+0100
END:STANDARD
END:VTIMEZONE
BEGIN:VTIMEZONE
TZID:UTC
BEGIN:STANDARD
DTSTART:20250726T091756Z
TZOFFSETFROM:+0000
TZOFFSETTO:+0000
END:STANDARD
END:VTIMEZONE
BEGIN:VEVENT
UID:139-72
DTSTAMP:20260422T091756Z
SUMMARY:Ruta circular en torno a Grazalema
LOCATION:Club Montañero Sierra del Pinar Plaza Salvador Allende  Jerez de 
 la Frontera Cádiz 11403
ORGANIZER;CN=Club Montañero Sierra del Pinar:MAILTO:clubsierradelpinar@gma
 il.com
DTSTART;TZID=Europe/Madrid:20250601T083000
DTEND;TZID=Europe/Madrid:20250601T093000
X-ALT-DESC;FMTTYPE=TEXT/HTML:<p>Partiremos del pabellón deportivo del pueb
 lo para llegar a las canteras de \"los cotitos\"\, donde también veremos 
 una antigua zona de cultivo ancestral en bancales. Por allí está la últ
 ima calera que \"funcionó\" en el pueblo. Cerca de la antigua \"venta de 
 la espuma\" tomaremos el sendero de \"Las Hermanillas\"\, que nos llevará
  hasta un  quejigo monumental ubicado en un rincón mágico. Cruzaremos e
 l Guadalete para llegar a \"Peñaloja\"\, y subir por el único paso entre
  grandes tajos que nos llevará a \"Grazalema la vieja\"\, antiguo asentam
 iento andalusí. Desde allí bajaremos por el sendero de la ermita para ac
 abar la ruta en la misma plaza del Grazalema.</p>\n
CATEGORIES:Senderismo
URL;VALUE=URI:https://clubsierradelpinar.es/index.php/mc-events/ruta-circul
 ar-en-torno-a-grazalema/
METHOD:PUBLISH
END:VEVENT
END:VCALENDAR