BEGIN:VCALENDAR
VERSION:2.0
PRODID:spatie/icalendar-generator
DESCRIPTION:Events from Club Monta&amp;ntilde\;ero Sierra del Pinar
X-WR-CALDESC:Events from Club Monta&amp;ntilde\;ero Sierra del Pinar
REFRESH-INTERVAL;VALUE=DURATION:PT1440M
X-PUBLISHED-TTL:PT1440M
BEGIN:VTIMEZONE
TZID:Europe/Madrid
BEGIN:DAYLIGHT
DTSTART:20240331T020000Z
TZOFFSETFROM:+0100
TZOFFSETTO:+0200
END:DAYLIGHT
BEGIN:STANDARD
DTSTART:20241027T030000Z
TZOFFSETFROM:+0200
TZOFFSETTO:+0100
END:STANDARD
BEGIN:DAYLIGHT
DTSTART:20250330T020000Z
TZOFFSETFROM:+0100
TZOFFSETTO:+0200
END:DAYLIGHT
END:VTIMEZONE
BEGIN:VTIMEZONE
TZID:UTC
BEGIN:STANDARD
DTSTART:20250726T091658Z
TZOFFSETFROM:+0000
TZOFFSETTO:+0000
END:STANDARD
END:VTIMEZONE
BEGIN:VEVENT
UID:106-43
DTSTAMP:20260422T091658Z
SUMMARY:Sierra de Líjar
LOCATION:Club Montañero Sierra del Pinar Plaza Salvador Allende  Jerez de 
 la Frontera Cádiz 11403
ORGANIZER;CN=Club Montañero Sierra del Pinar:MAILTO:clubsierradelpinar@gma
 il.com
DTSTART;TZID=Europe/Madrid:20241027T080000
DTEND;TZID=Europe/Madrid:20241027T180000
X-ALT-DESC;FMTTYPE=TEXT/HTML:<p>Ruta circular con inicio y final en Area Re
 creativa Los Nacimientos.<br />\nComenzaremos haciendo un tramo del sender
 o Algodonales - Los Nacimientos\, Cruzaremos El Canalizo\, llegaremos hast
 a la pista de subida al Mogote\, por la que bajaremos un tramo y tomaremos
  el sendero La Muela- Los Nacimientos para regresar al punto de partida.</
 p>\n
CATEGORIES:Senderismo
URL;VALUE=URI:https://clubsierradelpinar.es/index.php/mc-events/sierra-de-l
 ijar/
METHOD:PUBLISH
END:VEVENT
END:VCALENDAR