BEGIN:VCALENDAR
VERSION:2.0
PRODID:spatie/icalendar-generator
DESCRIPTION:Events from Club Monta&amp;ntilde\;ero Sierra del Pinar
X-WR-CALDESC:Events from Club Monta&amp;ntilde\;ero Sierra del Pinar
REFRESH-INTERVAL;VALUE=DURATION:PT1440M
X-PUBLISHED-TTL:PT1440M
BEGIN:VTIMEZONE
TZID:Europe/Madrid
BEGIN:STANDARD
DTSTART:20231029T030000Z
TZOFFSETFROM:+0200
TZOFFSETTO:+0100
END:STANDARD
BEGIN:DAYLIGHT
DTSTART:20240331T020000Z
TZOFFSETFROM:+0100
TZOFFSETTO:+0200
END:DAYLIGHT
END:VTIMEZONE
BEGIN:VTIMEZONE
TZID:UTC
BEGIN:STANDARD
DTSTART:20250726T103151Z
TZOFFSETFROM:+0000
TZOFFSETTO:+0000
END:STANDARD
END:VTIMEZONE
BEGIN:VEVENT
UID:98-30
DTSTAMP:20260422T103151Z
SUMMARY:Circular \"Sierra de los Pinos\"
LOCATION:Club Montañero Sierra del Pinar Plaza Salvador Allende  Jerez de 
 la Frontera Cádiz 11403
ORGANIZER;CN=Club Montañero Sierra del Pinar:MAILTO:clubsierradelpinar@gma
 il.com
DTSTART;TZID=Europe/Madrid:20240414T080000
DTEND;TZID=Europe/Madrid:20240414T180000
X-ALT-DESC;FMTTYPE=TEXT/HTML:<p>Para esta excursión nos hemos ido hasta la
  localidad de Cortes de la Frontera\, en el Parque Natural Sierra de Graza
 lema\, más concretamente al Macizo de Líbar\, para subir al pico Sierra 
 de los Pinos (1.395 m). La ruta sigue el sendero PR-A-439.</p>\n
CATEGORIES:Senderismo
URL;VALUE=URI:https://clubsierradelpinar.es/index.php/mc-events/circular-si
 erra-de-los-pinos/
METHOD:PUBLISH
END:VEVENT
END:VCALENDAR