BEGIN:VCALENDAR
VERSION:2.0
PRODID:spatie/icalendar-generator
DESCRIPTION:Events from Club Monta&amp;ntilde\;ero Sierra del Pinar
X-WR-CALDESC:Events from Club Monta&amp;ntilde\;ero Sierra del Pinar
REFRESH-INTERVAL;VALUE=DURATION:PT1440M
X-PUBLISHED-TTL:PT1440M
BEGIN:VTIMEZONE
TZID:Europe/Madrid
BEGIN:DAYLIGHT
DTSTART:20250330T020000Z
TZOFFSETFROM:+0100
TZOFFSETTO:+0200
END:DAYLIGHT
BEGIN:STANDARD
DTSTART:20251026T030000Z
TZOFFSETFROM:+0200
TZOFFSETTO:+0100
END:STANDARD
BEGIN:DAYLIGHT
DTSTART:20260329T020000Z
TZOFFSETFROM:+0100
TZOFFSETTO:+0200
END:DAYLIGHT
END:VTIMEZONE
BEGIN:VTIMEZONE
TZID:UTC
BEGIN:STANDARD
DTSTART:20250726T105810Z
TZOFFSETFROM:+0000
TZOFFSETTO:+0000
END:STANDARD
END:VTIMEZONE
BEGIN:VEVENT
UID:143-75
DTSTAMP:20260422T105810Z
SUMMARY:Arco Gótico – Túnel de Coargazal
LOCATION:Club Montañero Sierra del Pinar Plaza Salvador Allende  Jerez de 
 la Frontera Cádiz 11403
ORGANIZER;CN=Club Montañero Sierra del Pinar:MAILTO:clubsierradelpinar@gma
 il.com
DTSTART;TZID=Europe/Madrid:20251019T080000
DTEND;TZID=Europe/Madrid:20251019T090000
X-ALT-DESC;FMTTYPE=TEXT/HTML:<p>Partimos desde el aparcamiento del camping 
 de Grazalema subiendo por la base del Peñón Grande hacia los llanos del 
 Endrinal y seguimos hacia el puerto de las Presillas. Tomamos el sendero d
 e Dornajo para desviarnos hacia la derecha buscando la Sierra de Coargazal
  donde seguiremos entre encinares hasta el desvío que sube al Arco Gótic
 o\, formación caliza de gran belleza\, fisurada\, formando un puzle cerra
 ndo el arco.</p>\n
CATEGORIES:Senderismo
URL;VALUE=URI:https://clubsierradelpinar.es/index.php/mc-events/arco-gotico
 -tunel-de-coargazal-2/
METHOD:PUBLISH
END:VEVENT
END:VCALENDAR