BEGIN:VCALENDAR
VERSION:2.0
PRODID:spatie/icalendar-generator
DESCRIPTION:Events from Club Monta&amp;ntilde\;ero Sierra del Pinar
X-WR-CALDESC:Events from Club Monta&amp;ntilde\;ero Sierra del Pinar
REFRESH-INTERVAL;VALUE=DURATION:PT1440M
X-PUBLISHED-TTL:PT1440M
BEGIN:VTIMEZONE
TZID:Europe/Madrid
BEGIN:STANDARD
DTSTART:20241027T030000Z
TZOFFSETFROM:+0200
TZOFFSETTO:+0100
END:STANDARD
BEGIN:DAYLIGHT
DTSTART:20250330T020000Z
TZOFFSETFROM:+0100
TZOFFSETTO:+0200
END:DAYLIGHT
END:VTIMEZONE
BEGIN:VTIMEZONE
TZID:UTC
BEGIN:STANDARD
DTSTART:20250727T105403Z
TZOFFSETFROM:+0000
TZOFFSETTO:+0000
END:STANDARD
END:VTIMEZONE
BEGIN:VEVENT
UID:132-66
DTSTAMP:20260423T105403Z
SUMMARY:Presentación Historia del Cambio Climático
LOCATION:Club Montañero Sierra del Pinar Plaza Salvador Allende  Jerez de 
 la Frontera Cádiz 11403
ORGANIZER;CN=Club Montañero Sierra del Pinar:MAILTO:clubsierradelpinar@gma
 il.com
DTSTART;TZID=Europe/Madrid:20250321T200000
DTEND;TZID=Europe/Madrid:20250321T210000
X-ALT-DESC;FMTTYPE=TEXT/HTML:AUTOR: ÁNGEL LEÓN PANAL Un cazador inuit aba
 tió un extraño oso polar en bahía de Hudson. Sus patas no eran blancas\
 , sino castañas. Tras un análisis más exhaustivo\, se comprobó que el 
 animal también presentaba unas zarpas más grandes de lo normal\; además
 \, la forma de su cabeza recordaba a la de un oso grizzly.&amp;hellip\;
CATEGORIES:Divulgación
URL;VALUE=URI:https://clubsierradelpinar.es/index.php/mc-events/presentacio
 n-historia-del-cambio-climatico/
METHOD:PUBLISH
END:VEVENT
END:VCALENDAR