BEGIN:VCALENDAR
VERSION:2.0
PRODID:spatie/icalendar-generator
DESCRIPTION:Events from Club Monta&amp;ntilde\;ero Sierra del Pinar
X-WR-CALDESC:Events from Club Monta&amp;ntilde\;ero Sierra del Pinar
REFRESH-INTERVAL;VALUE=DURATION:PT1440M
X-PUBLISHED-TTL:PT1440M
BEGIN:VTIMEZONE
TZID:Europe/Madrid
BEGIN:STANDARD
DTSTART:20241027T030000Z
TZOFFSETFROM:+0200
TZOFFSETTO:+0100
END:STANDARD
BEGIN:DAYLIGHT
DTSTART:20250330T020000Z
TZOFFSETFROM:+0100
TZOFFSETTO:+0200
END:DAYLIGHT
END:VTIMEZONE
BEGIN:VTIMEZONE
TZID:UTC
BEGIN:STANDARD
DTSTART:20250726T105031Z
TZOFFSETFROM:+0000
TZOFFSETTO:+0000
END:STANDARD
END:VTIMEZONE
BEGIN:VEVENT
UID:126-61
DTSTAMP:20260422T105031Z
SUMMARY:Proyección Valle de Boí
LOCATION:Club Montañero Sierra del Pinar Plaza Salvador Allende  Jerez de 
 la Frontera Cádiz 11403
ORGANIZER;CN=Club Montañero Sierra del Pinar:MAILTO:clubsierradelpinar@gma
 il.com
DTSTART;TZID=Europe/Madrid:20250131T210000
DTEND;TZID=Europe/Madrid:20250131T220000
X-ALT-DESC;FMTTYPE=TEXT/HTML:<p>Os esperamos el viernes día 31 de enero a 
 las 9 de la noche en el local del Club Montañero<br />\nSierra del Pinar\
 , cito en Plza Salvador Allende s/n</p>\n
CATEGORIES:Divulgación
URL;VALUE=URI:https://clubsierradelpinar.es/index.php/mc-events/proyeccion-
 valle-de-boi/
METHOD:PUBLISH
END:VEVENT
END:VCALENDAR