BEGIN:VCALENDAR
VERSION:2.0
PRODID:spatie/icalendar-generator
DESCRIPTION:Events from Club Monta&amp;ntilde\;ero Sierra del Pinar
X-WR-CALDESC:Events from Club Monta&amp;ntilde\;ero Sierra del Pinar
REFRESH-INTERVAL;VALUE=DURATION:PT1440M
X-PUBLISHED-TTL:PT1440M
BEGIN:VTIMEZONE
TZID:Europe/Madrid
BEGIN:DAYLIGHT
DTSTART:20240331T020000Z
TZOFFSETFROM:+0100
TZOFFSETTO:+0200
END:DAYLIGHT
BEGIN:STANDARD
DTSTART:20241027T030000Z
TZOFFSETFROM:+0200
TZOFFSETTO:+0100
END:STANDARD
BEGIN:DAYLIGHT
DTSTART:20250330T020000Z
TZOFFSETFROM:+0100
TZOFFSETTO:+0200
END:DAYLIGHT
END:VTIMEZONE
BEGIN:VTIMEZONE
TZID:UTC
BEGIN:STANDARD
DTSTART:20250726T105830Z
TZOFFSETFROM:+0000
TZOFFSETTO:+0000
END:STANDARD
END:VTIMEZONE
BEGIN:VEVENT
UID:102-40
DTSTAMP:20260422T105830Z
SUMMARY:Asamblea de socios
LOCATION:Club Montañero Sierra del Pinar Plaza Salvador Allende  Jerez de 
 la Frontera Cádiz 11403
ORGANIZER;CN=Club Montañero Sierra del Pinar:MAILTO:clubsierradelpinar@gma
 il.com
DTSTART;TZID=Europe/Madrid:20240927T210000
DTEND;TZID=Europe/Madrid:20240927T220000
X-ALT-DESC;FMTTYPE=TEXT/HTML:Os recordamos que la Asamblea General Ordinari
 a de nuestro club se celebrará el próximo viernes día 27 de septiembre
  de 2024 a las 21h en la sede social del Club Montañero\, en Plaza Salvad
 or Allende s/n.  Bienvenida y apertura del acto por parte del presidente 
 Lectura del acta anterior Memoria por parte de la directiva de&amp;hellip\;
CATEGORIES:General
URL;VALUE=URI:https://clubsierradelpinar.es/index.php/mc-events/asamblea-de
 -socios-3/
METHOD:PUBLISH
END:VEVENT
END:VCALENDAR